BEGIN:VCALENDAR
VERSION:2.0
PRODID:-//Alliance Theatre - ECPv6.15.20//NONSGML v1.0//EN
CALSCALE:GREGORIAN
METHOD:PUBLISH
X-ORIGINAL-URL:https://www.alliancetheatre.org
X-WR-CALDESC:Events for Alliance Theatre
REFRESH-INTERVAL;VALUE=DURATION:PT1H
X-Robots-Tag:noindex
X-PUBLISHED-TTL:PT1H
BEGIN:VTIMEZONE
TZID:America/Chicago
BEGIN:DAYLIGHT
TZOFFSETFROM:-0600
TZOFFSETTO:-0500
TZNAME:CDT
DTSTART:20250309T080000
END:DAYLIGHT
BEGIN:STANDARD
TZOFFSETFROM:-0500
TZOFFSETTO:-0600
TZNAME:CST
DTSTART:20251102T070000
END:STANDARD
BEGIN:DAYLIGHT
TZOFFSETFROM:-0600
TZOFFSETTO:-0500
TZNAME:CDT
DTSTART:20260308T080000
END:DAYLIGHT
BEGIN:STANDARD
TZOFFSETFROM:-0500
TZOFFSETTO:-0600
TZNAME:CST
DTSTART:20261101T070000
END:STANDARD
BEGIN:DAYLIGHT
TZOFFSETFROM:-0600
TZOFFSETTO:-0500
TZNAME:CDT
DTSTART:20270314T080000
END:DAYLIGHT
BEGIN:STANDARD
TZOFFSETFROM:-0500
TZOFFSETTO:-0600
TZNAME:CST
DTSTART:20271107T070000
END:STANDARD
END:VTIMEZONE
BEGIN:VEVENT
DTSTART;VALUE=DATE:20260604
DTEND;VALUE=DATE:20260717
DTSTAMP:20260421T133739
CREATED:20260420T192258Z
LAST-MODIFIED:20260420T192726Z
UID:10001614-1780531200-1784246399@www.alliancetheatre.org
SUMMARY:Scraplanta Recycled Program Workshop
DESCRIPTION:JUN 4 – JUL 16\nJoin Alliance Theatre community partner\, Scraplanta\, for a special collaboration in connection to BASURA. For the run of the production\, audience members can bring their BASURA program to a Scraplanta workshop at any location and recycle the program into a work of art. Scraplanta’s community workshops are taught by volunteer local artists who are eager to share their skills with the community. In our mission to make art more accessible\, we have a sliding-scale price model for our workshops. We treat all participants the same\, no matter what price they choose! \nJune 4 & July 2 // Junk Journaling at ScrapTucker\nAt this workshop you will explore the world of papercraft\, photography\, and journaling\, discuss the benefits of junk journaling\, and connect with like minded creatives. Bring your own journal! All materials included. \nJune 14 & July 12 // Papermaking at CreateATL\nLearn to recycle and make your own paper with us at Scraplanta! Come explore the art of papermaking! In this workshop we will experiment with making paper pulp\, forming sheets\, decorating our paper\, collaging\, and anything in between! \nJune 18 & July 16 // Junk Journaling at CreateATL\nAt this workshop you will explore the world of papercraft\, photography\, and journaling\, discuss the benefits of junk journaling\, and connect with like minded creatives. Bring your own journal! All other materials included. \nView Upcoming Workshops \nPerformances of BASURA run on The Coca-Cola Stage May 30 through July 12\, 2026 – learn more.
URL:https://www.alliancetheatre.org/event/scraplanta-recycled-program-workshop/
LOCATION:Scraplanta
CATEGORIES:Workshops
ATTACH;FMTTYPE=image/webp:https://www.alliancetheatre.org/wp-content/uploads/2026/04/Scraplanta-x-Alliance-–-720x480-1.webp
ORGANIZER;CN="Alliance Theatre":MAILTO:allianceinfo@alliancetheatre.org
END:VEVENT
END:VCALENDAR