BEGIN:VCALENDAR
VERSION:2.0
PRODID:-//Alliance Theatre - ECPv6.15.20//NONSGML v1.0//EN
CALSCALE:GREGORIAN
METHOD:PUBLISH
X-WR-CALNAME:Alliance Theatre
X-ORIGINAL-URL:https://www.alliancetheatre.org
X-WR-CALDESC:Events for Alliance Theatre
REFRESH-INTERVAL;VALUE=DURATION:PT1H
X-Robots-Tag:noindex
X-PUBLISHED-TTL:PT1H
BEGIN:VTIMEZONE
TZID:America/Chicago
BEGIN:DAYLIGHT
TZOFFSETFROM:-0600
TZOFFSETTO:-0500
TZNAME:CDT
DTSTART:20180311T080000
END:DAYLIGHT
BEGIN:STANDARD
TZOFFSETFROM:-0500
TZOFFSETTO:-0600
TZNAME:CST
DTSTART:20181104T070000
END:STANDARD
BEGIN:DAYLIGHT
TZOFFSETFROM:-0600
TZOFFSETTO:-0500
TZNAME:CDT
DTSTART:20190310T080000
END:DAYLIGHT
BEGIN:STANDARD
TZOFFSETFROM:-0500
TZOFFSETTO:-0600
TZNAME:CST
DTSTART:20191103T070000
END:STANDARD
BEGIN:DAYLIGHT
TZOFFSETFROM:-0600
TZOFFSETTO:-0500
TZNAME:CDT
DTSTART:20200308T080000
END:DAYLIGHT
BEGIN:STANDARD
TZOFFSETFROM:-0500
TZOFFSETTO:-0600
TZNAME:CST
DTSTART:20201101T070000
END:STANDARD
END:VTIMEZONE
BEGIN:VEVENT
DTSTART;TZID=America/Chicago:20191220T123000
DTEND;TZID=America/Chicago:20191220T123000
DTSTAMP:20260421T064207
CREATED:20250808T153457Z
LAST-MODIFIED:20250808T153457Z
UID:10000347-1576845000-1576845000@www.alliancetheatre.org
SUMMARY:Chanukah Favorites with the ASO
DESCRIPTION:Tasty bite-sized portions of delicious culture. FREE. Each lunchtime culture event pairs two Midtown arts and culture organizations for a conversation\, performance\, or tour experience from a fresh perspective. Programs begin at 12:30\, are FREE\, and last approximately 30 minutes with time to explore the venue. \nDEC 20\, 2019\nChanukah Favorites with the ASO\nPresented by the Atlanta Symphony Orchestra at the Breman Museum (1440 Spring St. NW)\nCome and experience a specially curated program by The Atlanta Symphony Orchestra at the historic Breman Museum! Audience members can visit the museum to learn about pivotal moments in Jewish history while also enjoying the music of Hanukkah and other selections by Jewish composers.  \nLunch is not included with programs. Please visit Midtown dining options near each venue. \n​
URL:https://www.alliancetheatre.org/event/chanukah-favorites-with-the-aso/
LOCATION:Breman Museum\, 1440 Spring St NW\, Atlanta\, GA\, 30309\, United States
CATEGORIES:Offstage
ATTACH;FMTTYPE=image/webp:https://www.alliancetheatre.org/wp-content/uploads/2025/08/lunchtime20culture.webp
ORGANIZER;CN="Alliance Theatre":MAILTO:allianceinfo@alliancetheatre.org
GEO:33.79406;-84.3898
X-APPLE-STRUCTURED-LOCATION;VALUE=URI;X-ADDRESS=Breman Museum 1440 Spring St NW Atlanta GA 30309 United States;X-APPLE-RADIUS=500;X-TITLE=1440 Spring St NW:geo:-84.3898,33.79406
END:VEVENT
END:VCALENDAR