BEGIN:VCALENDAR
VERSION:2.0
PRODID:-//Alliance Theatre - ECPv6.15.20//NONSGML v1.0//EN
CALSCALE:GREGORIAN
METHOD:PUBLISH
X-ORIGINAL-URL:https://www.alliancetheatre.org
X-WR-CALDESC:Events for Alliance Theatre
REFRESH-INTERVAL;VALUE=DURATION:PT1H
X-Robots-Tag:noindex
X-PUBLISHED-TTL:PT1H
BEGIN:VTIMEZONE
TZID:America/Chicago
BEGIN:DAYLIGHT
TZOFFSETFROM:-0600
TZOFFSETTO:-0500
TZNAME:CDT
DTSTART:20250309T080000
END:DAYLIGHT
BEGIN:STANDARD
TZOFFSETFROM:-0500
TZOFFSETTO:-0600
TZNAME:CST
DTSTART:20251102T070000
END:STANDARD
BEGIN:DAYLIGHT
TZOFFSETFROM:-0600
TZOFFSETTO:-0500
TZNAME:CDT
DTSTART:20260308T080000
END:DAYLIGHT
BEGIN:STANDARD
TZOFFSETFROM:-0500
TZOFFSETTO:-0600
TZNAME:CST
DTSTART:20261101T070000
END:STANDARD
BEGIN:DAYLIGHT
TZOFFSETFROM:-0600
TZOFFSETTO:-0500
TZNAME:CDT
DTSTART:20270314T080000
END:DAYLIGHT
BEGIN:STANDARD
TZOFFSETFROM:-0500
TZOFFSETTO:-0600
TZNAME:CST
DTSTART:20271107T070000
END:STANDARD
END:VTIMEZONE
BEGIN:VEVENT
DTSTART;VALUE=DATE:20260517
DTEND;VALUE=DATE:20260518
DTSTAMP:20260421T185739
CREATED:20260219T192908Z
LAST-MODIFIED:20260219T200523Z
UID:10001580-1778976000-1779062399@www.alliancetheatre.org
SUMMARY:Encore Acting Workshops: The Great Ant Sleepover
DESCRIPTION:The Great Ant Sleepover\nSunday\, MAY 17 // Following the 2:00 PM & 4:30 PM Performances\nAttend daytime weekend performances* of the Underground Rep and stay after the show for a FREE Encore Acting workshop! Step into the spotlight with an Alliance Theatre teaching artist. This hands-on experience is open to all ages and perfect for curious performers of every level. \n*No workshops offered after shows with a talkback. \nGet Show Tickets
URL:https://www.alliancetheatre.org/event/underground-rep-encore-acting-workshops-may-17/
LOCATION:Center Space
CATEGORIES:Workshops
ATTACH;FMTTYPE=image/webp:https://www.alliancetheatre.org/wp-content/uploads/2026/02/encore-acting-workshop-GAS.webp
ORGANIZER;CN="Alliance Theatre":MAILTO:allianceinfo@alliancetheatre.org
END:VEVENT
BEGIN:VEVENT
DTSTART;VALUE=DATE:20260523
DTEND;VALUE=DATE:20260524
DTSTAMP:20260421T185739
CREATED:20260219T192913Z
LAST-MODIFIED:20260219T193618Z
UID:10001512-1779494400-1779580799@www.alliancetheatre.org
SUMMARY:Encore Acting Workshops: The Great Ant Sleepover
DESCRIPTION:The Great Ant Sleepover\nSaturday\, MAY 23 // Following the 2:00 PM Performance\nAttend daytime weekend performances* of the Underground Rep and stay after the show for a FREE Encore Acting workshop! Step into the spotlight with an Alliance Theatre teaching artist. This hands-on experience is open to all ages and perfect for curious performers of every level. \n*No workshops offered after shows with a talkback. \nGet Show Tickets
URL:https://www.alliancetheatre.org/event/underground-rep-encore-acting-workshops-may-23/
LOCATION:Center Space
CATEGORIES:Workshops
ATTACH;FMTTYPE=image/webp:https://www.alliancetheatre.org/wp-content/uploads/2026/02/encore-acting-workshop-GAS.webp
ORGANIZER;CN="Alliance Theatre":MAILTO:allianceinfo@alliancetheatre.org
END:VEVENT
BEGIN:VEVENT
DTSTART;VALUE=DATE:20260524
DTEND;VALUE=DATE:20260525
DTSTAMP:20260421T185739
CREATED:20260219T192915Z
LAST-MODIFIED:20260219T193418Z
UID:10001581-1779580800-1779667199@www.alliancetheatre.org
SUMMARY:Encore Acting Workshops: The Great Ant Sleepover
DESCRIPTION:The Great Ant Sleepover\nSaturday\, MAY 24 // Following the 2:00 PM & 4:30 PM Performances\nAttend daytime weekend performances* of the Underground Rep and stay after the show for a FREE Encore Acting workshop! Step into the spotlight with an Alliance Theatre teaching artist. This hands-on experience is open to all ages and perfect for curious performers of every level. \n*No workshops offered after shows with a talkback. \nGet Show Tickets
URL:https://www.alliancetheatre.org/event/underground-rep-encore-acting-workshops-may-24/
LOCATION:Center Space
CATEGORIES:Workshops
ATTACH;FMTTYPE=image/webp:https://www.alliancetheatre.org/wp-content/uploads/2026/02/encore-acting-workshop-GAS.webp
ORGANIZER;CN="Alliance Theatre":MAILTO:allianceinfo@alliancetheatre.org
END:VEVENT
BEGIN:VEVENT
DTSTART;VALUE=DATE:20260607
DTEND;VALUE=DATE:20260608
DTSTAMP:20260421T185739
CREATED:20260219T194142Z
LAST-MODIFIED:20260219T195559Z
UID:10001582-1780790400-1780876799@www.alliancetheatre.org
SUMMARY:Encore Acting Workshops: Naked Mole Rat Gets Dressed
DESCRIPTION:Naked Mole Rat Gets Dressed: The Rock Experience\nSunday\, JUN 7 // Following the 2:00 PM & 4:30 PM Performances\nAttend daytime weekend performances* of the Underground Rep and stay after the show for a FREE Encore Acting workshop! Step into the spotlight with an Alliance Theatre teaching artist. This hands-on experience is open to all ages and perfect for curious performers of every level. \n*No workshops offered after shows with a talkback. \nGet Show Tickets
URL:https://www.alliancetheatre.org/event/underground-rep-encore-acting-workshops-jun-7/
LOCATION:Center Space
CATEGORIES:Workshops
ATTACH;FMTTYPE=image/webp:https://www.alliancetheatre.org/wp-content/uploads/2026/02/encore-acting-workshop-NMR.webp
ORGANIZER;CN="Alliance Theatre":MAILTO:allianceinfo@alliancetheatre.org
END:VEVENT
BEGIN:VEVENT
DTSTART;VALUE=DATE:20260613
DTEND;VALUE=DATE:20260614
DTSTAMP:20260421T185739
CREATED:20260219T194152Z
LAST-MODIFIED:20260220T152708Z
UID:10001514-1781308800-1781395199@www.alliancetheatre.org
SUMMARY:Encore Acting Workshops: The Great Ant Sleepover
DESCRIPTION:The Great Ant Sleepover\nSaturday\, JUN 13 // Following the 2:00 PM & 4:30 PM Performances\nAttend daytime weekend performances* of the Underground Rep and stay after the show for a FREE Encore Acting workshop! Step into the spotlight with an Alliance Theatre teaching artist. This hands-on experience is open to all ages and perfect for curious performers of every level. \n*No workshops offered after shows with a talkback. \nGet Show Tickets
URL:https://www.alliancetheatre.org/event/underground-rep-encore-acting-workshops-jun-13/
LOCATION:Center Space
CATEGORIES:Workshops
ATTACH;FMTTYPE=image/webp:https://www.alliancetheatre.org/wp-content/uploads/2026/02/encore-acting-workshop-GAS.webp
ORGANIZER;CN="Alliance Theatre":MAILTO:allianceinfo@alliancetheatre.org
END:VEVENT
BEGIN:VEVENT
DTSTART;VALUE=DATE:20260614
DTEND;VALUE=DATE:20260615
DTSTAMP:20260421T185739
CREATED:20260219T194156Z
LAST-MODIFIED:20260219T195227Z
UID:10001583-1781395200-1781481599@www.alliancetheatre.org
SUMMARY:Encore Acting Workshops: The Great Ant Sleepover
DESCRIPTION:The Great Ant Sleepover\nSunday\, JUN 14 // Following the 2:00 PM & 4:30 PM Performances\nAttend daytime weekend performances* of the Underground Rep and stay after the show for a FREE Encore Acting workshop! Step into the spotlight with an Alliance Theatre teaching artist. This hands-on experience is open to all ages and perfect for curious performers of every level. \n*No workshops offered after shows with a talkback. \nGet Show Tickets
URL:https://www.alliancetheatre.org/event/underground-rep-encore-acting-workshops-jun-14/
LOCATION:Center Space
CATEGORIES:Workshops
ATTACH;FMTTYPE=image/webp:https://www.alliancetheatre.org/wp-content/uploads/2026/02/encore-acting-workshop-GAS.webp
ORGANIZER;CN="Alliance Theatre":MAILTO:allianceinfo@alliancetheatre.org
END:VEVENT
BEGIN:VEVENT
DTSTART;VALUE=DATE:20260621
DTEND;VALUE=DATE:20260622
DTSTAMP:20260421T185739
CREATED:20260219T194200Z
LAST-MODIFIED:20260219T195034Z
UID:10001584-1782000000-1782086399@www.alliancetheatre.org
SUMMARY:Encore Acting Workshops: The Great Ant Sleepover
DESCRIPTION:The Great Ant Sleepover\nSunday\, JUN 21 // Following the 2:00 PM & 4:30 PM Performances\nAttend daytime weekend performances* of the Underground Rep and stay after the show for a FREE Encore Acting workshop! Step into the spotlight with an Alliance Theatre teaching artist. This hands-on experience is open to all ages and perfect for curious performers of every level. \n*No workshops offered after shows with a talkback. \nGet Show Tickets
URL:https://www.alliancetheatre.org/event/underground-rep-encore-acting-workshops-jun-21/
LOCATION:Center Space
CATEGORIES:Workshops
ATTACH;FMTTYPE=image/webp:https://www.alliancetheatre.org/wp-content/uploads/2026/02/encore-acting-workshop-GAS.webp
ORGANIZER;CN="Alliance Theatre":MAILTO:allianceinfo@alliancetheatre.org
END:VEVENT
BEGIN:VEVENT
DTSTART;VALUE=DATE:20260627
DTEND;VALUE=DATE:20260628
DTSTAMP:20260421T185739
CREATED:20260219T194203Z
LAST-MODIFIED:20260219T200333Z
UID:10001515-1782518400-1782604799@www.alliancetheatre.org
SUMMARY:Encore Acting Workshops: Into the Burrow
DESCRIPTION:Into the Burrow: A Peter Rabbit Tale\nSaturday\, JUN 27 // Following the 2:00 PM & 4:30 PM Performances\nAttend daytime weekend performances* of the Underground Rep and stay after the show for a FREE Encore Acting workshop! Step into the spotlight with an Alliance Theatre teaching artist. This hands-on experience is open to all ages and perfect for curious performers of every level. \n*No workshops offered after shows with a talkback. \nGet Show Tickets
URL:https://www.alliancetheatre.org/event/underground-rep-encore-acting-workshops-jun-27/
LOCATION:Center Space
CATEGORIES:Workshops
ATTACH;FMTTYPE=image/webp:https://www.alliancetheatre.org/wp-content/uploads/2026/02/encore-acting-workshop-ITB.webp
ORGANIZER;CN="Alliance Theatre":MAILTO:allianceinfo@alliancetheatre.org
END:VEVENT
BEGIN:VEVENT
DTSTART;VALUE=DATE:20260628
DTEND;VALUE=DATE:20260629
DTSTAMP:20260421T185739
CREATED:20260219T194209Z
LAST-MODIFIED:20260219T194656Z
UID:10001585-1782604800-1782691199@www.alliancetheatre.org
SUMMARY:Encore Acting Workshops: Naked Mole Rat Gets Dressed
DESCRIPTION:Naked Mole Rat Gets Dressed: The Rock Experience\nSunday\, JUN 28 // Following the 2:00 PM & 4:30 PM Performances\nAttend daytime weekend performances* of the Underground Rep and stay after the show for a FREE Encore Acting workshop! Step into the spotlight with an Alliance Theatre teaching artist. This hands-on experience is open to all ages and perfect for curious performers of every level. \n*No workshops offered after shows with a talkback. \nGet Show Tickets
URL:https://www.alliancetheatre.org/event/underground-rep-encore-acting-workshops-jun-28/
LOCATION:Center Space
CATEGORIES:Workshops
ATTACH;FMTTYPE=image/webp:https://www.alliancetheatre.org/wp-content/uploads/2026/02/encore-acting-workshop-NMR.webp
ORGANIZER;CN="Alliance Theatre":MAILTO:allianceinfo@alliancetheatre.org
END:VEVENT
BEGIN:VEVENT
DTSTART;VALUE=DATE:20260705
DTEND;VALUE=DATE:20260706
DTSTAMP:20260421T185739
CREATED:20260219T194212Z
LAST-MODIFIED:20260219T194448Z
UID:10001586-1783209600-1783295999@www.alliancetheatre.org
SUMMARY:Encore Acting Workshops: The Great Ant Sleepover
DESCRIPTION:The Great Ant Sleepover\nSunday\, JUL 5 // Following the 2:00 PM & 4:30 PM Performances\nAttend daytime weekend performances* of the Underground Rep and stay after the show for a FREE Encore Acting workshop! Step into the spotlight with an Alliance Theatre teaching artist. This hands-on experience is open to all ages and perfect for curious performers of every level. \n*No workshops offered after shows with a talkback. \nGet Show Tickets
URL:https://www.alliancetheatre.org/event/underground-rep-encore-acting-workshops-jul-5/
LOCATION:Center Space
CATEGORIES:Workshops
ATTACH;FMTTYPE=image/webp:https://www.alliancetheatre.org/wp-content/uploads/2026/02/encore-acting-workshop-GAS.webp
ORGANIZER;CN="Alliance Theatre":MAILTO:allianceinfo@alliancetheatre.org
END:VEVENT
END:VCALENDAR